BEGIN:VCALENDAR
VERSION:2.0
PRODID:-//wp-events-plugin.com//7.2.3.1//EN
TZID:America/New_York
X-WR-TIMEZONE:America/New_York
BEGIN:VEVENT
UID:6@durnellmaierlaw.com
DTSTART:20260512T100000Z
DTEND:20260512T100000Z
DTSTAMP:20260415T172158Z
URL:https://durnellmaierlaw.com/events/estate-planning-seminar-new-bremen-
 oh/
SUMMARY:Estate Planning Seminar - New Bremen\, OH
DESCRIPTION:
ATTACH;FMTTYPE=image/jpeg:https://durnellmaierlaw.com/wp-content/uploads/2
 025/04/fallback-image.jpg
LOCATION:Lockkeepers House\, 22 S. Water St.\, New Bremen\, OH\, 45869\, Un
 ited States
GEO:40.43597;-84.380929
X-APPLE-STRUCTURED-LOCATION;VALUE=URI;X-ADDRESS=22 S. Water St.\, New Breme
 n\, OH\, 45869\, United States;X-APPLE-RADIUS=100;X-TITLE=Lockkeepers Hous
 e:geo:40.43597,-84.380929
END:VEVENT
END:VCALENDAR