BEGIN:VCALENDAR
VERSION:2.0
PRODID:-//wp-events-plugin.com//7.2.3.1//EN
TZID:America/New_York
X-WR-TIMEZONE:America/New_York
BEGIN:VEVENT
UID:8@durnellmaierlaw.com
DTSTART:20260512T140000Z
DTEND:20260512T140000Z
DTSTAMP:20260415T172155Z
URL:https://durnellmaierlaw.com/events/estate-planning-seminar-st-marys/
SUMMARY:Estate Planning Seminar - St. Marys\, OH
DESCRIPTION:[et_pb_section fb_built="1" admin_label="section" _builder_vers
 ion="4.16" global_colors_info="{}"][et_pb_row admin_label="row" _builder_v
 ersion="4.16" background_size="initial" background_position="top_left" bac
 kground_repeat="repeat" global_colors_info="{}"][et_pb_column type="4_4" _
 builder_version="4.16" custom_padding="|||" global_colors_info="{}" custom
 _padding__hover="|||"][/et_pb_column][/et_pb_row][/et_pb_section]
ATTACH;FMTTYPE=image/jpeg:https://durnellmaierlaw.com/wp-content/uploads/2
 025/04/fallback-image.jpg
LOCATION:St. Marys FOE 767\, 404 E. Spring St.\, St Marys\, OH\, 45885\, 
GEO:40.545299;-84.383527
X-APPLE-STRUCTURED-LOCATION;VALUE=URI;X-ADDRESS=404 E. Spring St.\, St Mary
 s\, OH\, 45885\, ;X-APPLE-RADIUS=100;X-TITLE=St. Marys FOE 767:geo:40.5452
 99,-84.383527
END:VEVENT
END:VCALENDAR